Workbook

Sheet Таблица
A1: Наименование специальности, профессии по перечням профессий и специальностей, утвержденных приказами Минобрнауки России от 29 октября 2013 г. № 1199 и Минпросвещения России от 17 мая 2022 г. № 336 | B1: № строки | C1: Численность студентов 1 курса | F1: В том числе (из гр. 4) обучаются | K1: Численность студентов 2 курса | N1: В том числе (из гр. 12) обучаются | S1: Численность студентов 3 курса | V1: В том числе (из гр. 20) обучаются | AA1: Численность студентов 4 курса | AD1: В том числе (из гр. 28) обучаются | AI1: Численность студентов 5 курса | AL1: В том числе (из гр. 36) обучаются | AQ1: Численность студентов 6 курса | AT1: В том числе (из гр. 44) обучаются | AY1: Итого студентов на всех курсах | BB1: В том числе (из гр. 52) | BJ1: Из общей численности студентов (из гр. 52) | CB1: 88521
AY2: всего (сумма гр. 4, 12, 20, 28, 36, 44; сумма гр. 57, 59, 61, 62) | AZ2: из них (из гр.52) лица с ОВЗ, инвалиды, дети-инвалиды (сумма гр.5, 13, 21, 29, 37, 45) | BA2: из них (из гр.52) по программам «Профессио-налитета» (сумма гр. 6, 14, 22, 30, 38, 46) | BB2: по уровням подготовки: | BD2: обучаются | BJ2: женщины | BK2: заключили договор о целевом обучении | BL2: из них (из гр.64) с предприятиями-участниками кластера | CB2: 88522
C3: всего (сумма гр.7, 9–11) | D3: из них (из гр.4) лица с ОВЗ, инвалиды, дети-инвалиды | E3: из них (из гр.4) по программам «Профессио-налитета» | F3: за счет бюджетных ассигнований | J3: по договорам об оказании платных образователь-ных услуг | K3: всего (сумма гр.15, 17–19) | L3: из них (из гр.12) лица с ОВЗ, инвалиды, дети-инвалиды | M3: из них (из гр.12) по программам «Профессио-налитета» | N3: за счет бюджетных ассигнований | R3: по договорам об оказании платных образователь-ных услуг | S3: всего (сумма гр.23, 25–27) | T3: из них (из гр.20) лица с ОВЗ, инвалиды, дети-инвалиды | U3: из них (из гр.20) по программам «Профессио-налитета» | V3: за счет бюджетных ассигнований | Z3: по договорам об оказании платных образователь-ных услуг | AA3: всего (сумма гр.31, 33–35) | AB3: из них (из гр.28) лица с ОВЗ, инвалиды, дети-инвалиды | AC3: из них (из гр.28) по программам «Профессио-налитета» | AD3: за счет бюджетных ассигнований | AH3: по договорам об оказании платных образователь-ных услуг | AI3: всего (сумма гр.39, 41–43) | AJ3: из них (из гр.36) лица с ОВЗ, инвалиды, дети-инвалиды | AK3: из них (из гр.36) по программам «Профессио-налитета» | AL3: за счет бюджетных ассигнований | AP3: по договорам об оказании платных образователь-ных услуг | AQ3: всего (сумма гр.47, 49–51) | AR3: из них (из гр.44) лица с ОВЗ, инвалиды, дети-инвалиды | AS3: из них (из гр.44) по программам «Профессио-налитета» | AT3: за счет бюджетных ассигнований | AX3: по договорам об оказании платных образователь-ных услуг | BB3: базовый | BC3: углубленный | BD3: за счет бюджетных ассигнований | BI3: по договорам об оказании платных образова-тельных услуг (сумма гр. 11, 19, 27, 35, 43, 51) | CB3: 88523
F4: федерального бюджета | H4: бюджета субъекта Российской Федерации | I4: местного бюджета | N4: федерального бюджета | P4: бюджета субъекта Российской Федерации | Q4: местного бюджета | V4: федерального бюджета | X4: бюджета субъекта Российской Федерации | Y4: местного бюджета | AD4: федерального бюджета | AF4: бюджета субъекта Российской Федерации | AG4: местного бюджета | AL4: федерального бюджета | AN4: бюджета субъекта Российской Федерации | AO4: местного бюджета | AT4: федерального бюджета | AV4: бюджета субъекта Российской Федерации | AW4: местного бюджета | BD4: федерального бюджета | BF4: бюджета субъекта Российской Федерации | BH4: местного бюджета (сумма гр. 10, 18, 26, 34, 42, 50) | CB4: 88524
F5: всего | G5: из них лица с ОВЗ, инвалиды, дети-инвалиды | N5: всего | O5: из них лица с ОВЗ, инвалиды, дети-инвалиды | V5: всего | W5: из них лица с ОВЗ, инвалиды, дети-инвалиды | AD5: всего | AE5: из них лица с ОВЗ, инвалиды, дети-инвалиды | AL5: всего | AM5: из них лица с ОВЗ, инвалиды, дети-инвалиды | AT5: всего | AU5: из них лица с ОВЗ, инвалиды, дети-инвалиды | BD5: всего (сумма гр. 7, 15, 23, 31, 39, 47) | BE5: из них лица с ОВЗ, инвалиды, дети-инвалиды (сумма гр. 8, 16, 24, 32, 40, 48) | BF5: всего (сумма гр. 9, 17, 25, 33, 41, 49) | BG5: из них лица с ОВЗ, инвалиды, дети-инвалиды | CB5: 88525
CB6: 88526
A7: 1 | B7: 2 | C7: 4 | D7: 5 | E7: 6 | F7: 7 | G7: 8 | H7: 9 | I7: 10 | J7: 11 | K7: 12 | L7: 13 | M7: 14 | N7: 15 | O7: 16 | P7: 17 | Q7: 18 | R7: 19 | S7: 20 | T7: 21 | U7: 22 | V7: 23 | W7: 24 | X7: 25 | Y7: 26 | Z7: 27 | AA7: 28 | AB7: 29 | AC7: 30 | AD7: 31 | AE7: 32 | AF7: 33 | AG7: 34 | AH7: 35 | AI7: 36 | AJ7: 37 | AK7: 38 | AL7: 39 | AM7: 40 | AN7: 41 | AO7: 42 | AP7: 43 | AQ7: 44 | AR7: 45 | AS7: 46 | AT7: 47 | AU7: 48 | AV7: 49 | AW7: 50 | AX7: 51 | AY7: 52 | AZ7: 53 | BA7: 54 | BB7: 55 | BC7: 56 | BD7: 57 | BE7: 58 | BF7: 59 | BG7: 60 | BH7: 61 | BI7: 62 | BJ7: 63 | BK7: 64 | BL7: 65 | CB7: 88527
A8: Программы подготовки специалистов среднего звена: на базе основного общего образования – всего | B8: 01 | C8: =SUM(C10:C14) -> 248 | D8: =SUM(D10:D14) -> 19 | E8: =SUM(E10:E14) -> 190 | F8: =SUM(F10:F14) -> 0 | G8: =SUM(G10:G14) -> 0 | H8: =SUM(H10:H14) -> 176 | I8: =SUM(I10:I14) -> 0 | J8: =SUM(J10:J14) -> 72 | ... BL8: =SUM(BL10:BL14) -> 19 | CB8: 88528
A9: в том числе по специальностям: | CB9: 88529
A10: 15.02.16 - Технология машиностроения | B10: 01.1 | C10: =F10+H10+I10+J10 -> 109 | D10: 10 | E10: 109 | F10: 0 | G10: 0 | H10: 100 | I10: 0 | J10: 9 | K10: =N10+P10+Q10+R10 -> 73 | L10: 1 | M10: 0 | N10: 0 | O10: 0 | P10: 50 | Q10: 0 | R10: 23 | S10: =V10+X10+Y10+Z10 -> 72 | T10: 0 | U10: 0 | V10: 0 | W10: 0 | X10: 72 | Y10: 0 | Z10: 0 | AA10: =AD10+AF10+AG10+AH10 -> 57 | AB10: 0 | AC10: 0 | AD10: 0 | AE10: 0 | AF10: 57 | AG10: 0 | AH10: 0 | AI10: =AL10+AN10+AO10+AP10 -> 0 | AJ10: 0 | AK10: 0 | AL10: 0 | AM10: 0 | AN10: 0 | AO10: 0 | AP10: 0 | AQ10: =AT10+AV10+AW10+AX10 -> 0 | AR10: 0 | AS10: 0 | AT10: 0 | AU10: 0 | AV10: 0 | AW10: 0 | AX10: 0 | AY10: =BD10+BF10+BH10+BI10 -> 310 | AZ10: 0 | BA10: 0 | BB10: 285 | BC10: 0 | BD10: 0 | BE10: 0 | BF10: 279 | BG10: 0 | BH10: 0 | BI10: 31 | BJ10: 13 | BK10: 15 | BL10: 15 | CB10: 88530_1 | CC10: 1
A11: 13.02.13 - Эксплуатация и обслуживание электрического и электромеханического оборудования (по отраслям) | B11: 01.2 | C11: =F11+H11+I11+J11 -> 81 | D11: 8 | E11: 81 | F11: 0 | G11: 0 | H11: 76 | I11: 0 | J11: 5 | K11: =N11+P11+Q11+R11 -> 71 | L11: 2 | M11: 0 | N11: 0 | O11: 0 | P11: 67 | Q11: 0 | R11: 4 | S11: =V11+X11+Y11+Z11 -> 36 | T11: 0 | U11: 0 | V11: 0 | W11: 0 | X11: 36 | Y11: 0 | Z11: 0 | AA11: =AD11+AF11+AG11+AH11 -> 43 | AB11: 0 | AC11: 0 | AD11: 0 | AE11: 0 | AF11: 43 | AG11: 0 | AH11: 0 | AI11: =AL11+AN11+AO11+AP11 -> 0 | AJ11: 0 | AK11: 0 | AL11: 0 | AM11: 0 | AN11: 0 | AO11: 0 | AP11: 0 | AQ11: =AT11+AV11+AW11+AX11 -> 0 | AR11: 0 | AS11: 0 | AT11: 0 | AU11: 0 | AV11: 0 | AW11: 0 | AX11: 0 | AY11: =BD11+BF11+BH11+BI11 -> 187 | AZ11: 0 | BA11: 0 | BB11: 188 | BC11: 0 | BD11: 0 | BE11: 0 | BF11: 178 | BG11: 0 | BH11: 0 | BI11: 9 | BJ11: 4 | BK11: 4 | BL11: 4 | CB11: 88530_2 | CC11: 2
A12: 13.02.11 - Техническая эксплуатация и обслуживание электрического и электромеханического оборудования (по отраслям) | B12: 01.3 | C12: =F12+H12+I12+J12 -> 0 | D12: 0 | E12: 0 | F12: 0 | G12: 0 | H12: 0 | I12: 0 | J12: 0 | K12: =N12+P12+Q12+R12 -> 0 | L12: 0 | M12: 0 | N12: 0 | O12: 0 | P12: 0 | Q12: 0 | R12: 0 | S12: =V12+X12+Y12+Z12 -> 0 | T12: 0 | U12: 0 | V12: 0 | W12: 0 | X12: 0 | Y12: 0 | Z12: 0 | AA12: =AD12+AF12+AG12+AH12 -> 0 | AB12: 0 | AC12: 0 | AD12: 0 | AE12: 0 | AF12: 0 | AG12: 0 | AH12: 0 | AI12: =AL12+AN12+AO12+AP12 -> 0 | AJ12: 0 | AK12: 0 | AL12: 0 | AM12: 0 | AN12: 0 | AO12: 0 | AP12: 0 | AQ12: =AT12+AV12+AW12+AX12 -> 0 | AR12: 0 | AS12: 0 | AT12: 0 | AU12: 0 | AV12: 0 | AW12: 0 | AX12: 0 | AY12: =BD12+BF12+BH12+BI12 -> 43 | AZ12: 0 | BA12: 0 | BB12: 43 | BC12: 0 | BD12: 0 | BE12: 0 | BF12: 43 | BG12: 0 | BH12: 0 | BI12: 0 | BJ12: 0 | BK12: 0 | BL12: 0 | CB12: 88530_3 | CC12: 3
A13: 40.02.04 - Юриспруденция | B13: 01.4 | C13: =F13+H13+I13+J13 -> 58 | D13: 1 | E13: 0 | F13: 0 | G13: 0 | H13: 0 | I13: 0 | J13: 58 | K13: =N13+P13+Q13+R13 -> 82 | L13: 3 | M13: 0 | N13: 0 | O13: 0 | P13: 0 | Q13: 0 | R13: 82 | S13: =V13+X13+Y13+Z13 -> 58 | T13: 0 | U13: 0 | V13: 0 | W13: 0 | X13: 0 | Y13: 0 | Z13: 58 | AA13: =AD13+AF13+AG13+AH13 -> 0 | AB13: 0 | AC13: 0 | AD13: 0 | AE13: 0 | AF13: 0 | AG13: 0 | AH13: 0 | AI13: =AL13+AN13+AO13+AP13 -> 0 | AJ13: 0 | AK13: 0 | AL13: 0 | AM13: 0 | AN13: 0 | AO13: 0 | AP13: 0 | AQ13: =AT13+AV13+AW13+AX13 -> 0 | AR13: 0 | AS13: 0 | AT13: 0 | AU13: 0 | AV13: 0 | AW13: 0 | AX13: 0 | AY13: =BD13+BF13+BH13+BI13 -> 198 | AZ13: 0 | BA13: 0 | BB13: 198 | BC13: 0 | BD13: 0 | BE13: 0 | BF13: 0 | BG13: 0 | BH13: 0 | BI13: 198 | BJ13: 0 | BK13: 0 | BL13: 0 | CB13: 88530_4 | CC13: 4
CB14: 88530 | CD14: 01 | CE14: 5
A15: на базе среднего общего образования – всего | B15: 02 | C15: =SUM(C17:C19) -> 0 | D15: =SUM(D17:D19) -> 0 | E15: =SUM(E17:E19) -> 0 | F15: =SUM(F17:F19) -> 0 | G15: =SUM(G17:G19) -> 0 | H15: =SUM(H17:H19) -> 0 | I15: =SUM(I17:I19) -> 0 | J15: =SUM(J17:J19) -> 0 | ... BL15: =SUM(BL17:BL19) -> 0 | CB15: 88542
A16: в том числе по специальностям: | CB16: 88543
A17: 15.02.16 - Технология машиностроения | B17: 02.1 | C17: =F17+H17+I17+J17 -> 0 | D17: 0 | E17: 0 | F17: 0 | G17: 0 | H17: 0 | I17: 0 | J17: 0 | K17: =N17+P17+Q17+R17 -> 24 | L17: 0 | M17: 0 | N17: 0 | O17: 0 | P17: 24 | Q17: 0 | R17: 0 | S17: =V17+X17+Y17+Z17 -> 0 | T17: 0 | U17: 0 | V17: 0 | W17: 0 | X17: 0 | Y17: 0 | Z17: 0 | AA17: =AD17+AF17+AG17+AH17 -> 0 | AB17: 0 | AC17: 0 | AD17: 0 | AE17: 0 | AF17: 0 | AG17: 0 | AH17: 0 | AI17: =AL17+AN17+AO17+AP17 -> 0 | AJ17: 0 | AK17: 0 | AL17: 0 | AM17: 0 | AN17: 0 | AO17: 0 | AP17: 0 | AQ17: =AT17+AV17+AW17+AX17 -> 0 | AR17: 0 | AS17: 0 | AT17: 0 | AU17: 0 | AV17: 0 | AW17: 0 | AX17: 0 | AY17: =BD17+BF17+BH17+BI17 -> 24 | AZ17: 0 | BA17: 0 | BB17: 0 | BC17: 0 | BD17: 0 | BE17: 0 | BF17: 24 | BG17: 0 | BH17: 0 | BI17: 0 | BJ17: 0 | BK17: 0 | BL17: 0 | CB17: 88544_1 | CC17: 1
A18: 13.02.13 - Эксплуатация и обслуживание электрического и электромеханического оборудования (по отраслям) | B18: 02.2 | C18: =F18+H18+I18+J18 -> 0 | D18: 0 | E18: 0 | F18: 0 | G18: 0 | H18: 0 | I18: 0 | J18: 0 | K18: =N18+P18+Q18+R18 -> 0 | L18: 0 | M18: 0 | N18: 0 | O18: 0 | P18: 0 | Q18: 0 | R18: 0 | S18: =V18+X18+Y18+Z18 -> 12 | T18: 0 | U18: 0 | V18: 0 | W18: 0 | X18: 12 | Y18: 0 | Z18: 0 | AA18: =AD18+AF18+AG18+AH18 -> 0 | AB18: 0 | AC18: 0 | AD18: 0 | AE18: 0 | AF18: 0 | AG18: 0 | AH18: 0 | AI18: =AL18+AN18+AO18+AP18 -> 0 | AJ18: 0 | AK18: 0 | AL18: 0 | AM18: 0 | AN18: 0 | AO18: 0 | AP18: 0 | AQ18: =AT18+AV18+AW18+AX18 -> 0 | AR18: 0 | AS18: 0 | AT18: 0 | AU18: 0 | AV18: 0 | AW18: 0 | AX18: 0 | AY18: =BD18+BF18+BH18+BI18 -> 12 | AZ18: 0 | BA18: 0 | BB18: 0 | BC18: 0 | BD18: 0 | BE18: 0 | BF18: 12 | BG18: 0 | BH18: 0 | BI18: 0 | BJ18: 0 | BK18: 0 | BL18: 0 | CB18: 88544_2 | CC18: 2
CB19: 88544 | CD19: 02 | CE19: 3
A20: Всего по программам подготовки специалистов среднего звена (сумма стр. 01, 02) | B20: 03 | C20: =C8+C15 -> 248 | D20: =D8+D15 -> 19 | E20: =E8+E15 -> 190 | F20: =F8+F15 -> 0 | G20: =G8+G15 -> 0 | H20: =H8+H15 -> 176 | I20: =I8+I15 -> 0 | J20: =J8+J15 -> 72 | ... BL20: =BL8+BL15 -> 19 | CB20: 88545
A21: Программы подготовки квалифицированных рабочих, служащих: на базе основного общего образования – всего | B21: 04 | C21: =SUM(C23:C24) -> 0 | D21: =SUM(D23:D24) -> 0 | E21: =SUM(E23:E24) -> 0 | F21: =SUM(F23:F24) -> 0 | G21: =SUM(G23:G24) -> 0 | H21: =SUM(H23:H24) -> 0 | I21: =SUM(I23:I24) -> 0 | J21: =SUM(J23:J24) -> 0 | ... BA21: =SUM(BA23:BA24) -> 0 | BB21: X | BC21: X | BD21: =SUM(BD23:BD24) -> 0 | BE21: =SUM(BE23:BE24) -> 0 | BF21: =SUM(BF23:BF24) -> 0 | BG21: =SUM(BG23:BG24) -> 0 | BH21: =SUM(BH23:BH24) -> 0 | BI21: =SUM(BI23:BI24) -> 0 | BJ21: =SUM(BJ23:BJ24) -> 0 | BK21: =SUM(BK23:BK24) -> 0 | BL21: =SUM(BL23:BL24) -> 0 | CB21: 88546
A22: в том числе по профессиям | CB22: 88547
B23: 1 | C23: =F23+H23+I23+J23 -> 0 | K23: =N23+P23+Q23+R23 -> 0 | S23: =V23+X23+Y23+Z23 -> 0 | AA23: =AD23+AF23+AG23+AH23 -> 0 | AI23: =AL23+AN23+AO23+AP23 -> 0 | AQ23: =AT23+AV23+AW23+AX23 -> 0 | AY23: =BD23+BF23+BH23+BI23 -> 0 | BB23: X | BC23: X | CA23: 1 | CB23: 88531_1 | CC23: 1
CB24: 88531 | CE24: 2
A25: на базе среднего общего образования – всего | B25: 05 | C25: =SUM(C27:C28) -> 0 | D25: =SUM(D27:D28) -> 0 | E25: =SUM(E27:E28) -> 0 | F25: =SUM(F27:F28) -> 0 | G25: =SUM(G27:G28) -> 0 | H25: =SUM(H27:H28) -> 0 | I25: =SUM(I27:I28) -> 0 | J25: =SUM(J27:J28) -> 0 | ... BA25: =SUM(BA27:BA28) -> 0 | BB25: X | BC25: X | BD25: =SUM(BD27:BD28) -> 0 | BE25: =SUM(BE27:BE28) -> 0 | BF25: =SUM(BF27:BF28) -> 0 | BG25: =SUM(BG27:BG28) -> 0 | BH25: =SUM(BH27:BH28) -> 0 | BI25: =SUM(BI27:BI28) -> 0 | BJ25: =SUM(BJ27:BJ28) -> 0 | BK25: =SUM(BK27:BK28) -> 0 | BL25: =SUM(BL27:BL28) -> 0 | CB25: 88532
A26: в том числе по профессиям | CB26: 88533
B27: 1 | C27: =F27+H27+I27+J27 -> 0 | K27: =N27+P27+Q27+R27 -> 0 | S27: =V27+X27+Y27+Z27 -> 0 | AA27: =AD27+AF27+AG27+AH27 -> 0 | AI27: =AL27+AN27+AO27+AP27 -> 0 | AQ27: =AT27+AV27+AW27+AX27 -> 0 | AY27: =BD27+BF27+BH27+BI27 -> 0 | BB27: X | BC27: X | CA27: 1 | CB27: 88534_1 | CC27: 1
CB28: 88534 | CE28: 2
A29: Всего по программам подготовки квалифицированных рабочих, служащих (сумма стр. 04, 05) | B29: 06 | C29: =C21+C25 -> 0 | D29: =D21+D25 -> 0 | E29: =E21+E25 -> 0 | F29: =F21+F25 -> 0 | G29: =G21+G25 -> 0 | H29: =H21+H25 -> 0 | I29: =I21+I25 -> 0 | J29: =J21+J25 -> 0 | ... BA29: =BA21+BA25 -> 0 | BB29: X | BC29: X | BD29: =BD21+BD25 -> 0 | BE29: =BE21+BE25 -> 0 | BF29: =BF21+BF25 -> 0 | BG29: =BG21+BG25 -> 0 | BH29: =BH21+BH25 -> 0 | BI29: =BI21+BI25 -> 0 | BJ29: =BJ21+BJ25 -> 0 | BK29: =BK21+BK25 -> 0 | BL29: =BL21+BL25 -> 0 | CB29: 88535
A30: Итого по программам среднего профессионального образования (сумма стр. 03, 06) | B30: 07 | C30: =C20+C29 -> 248 | D30: =D20+D29 -> 19 | E30: =E20+E29 -> 190 | F30: =F20+F29 -> 0 | G30: =G20+G29 -> 0 | H30: =H20+H29 -> 176 | I30: =I20+I29 -> 0 | J30: =J20+J29 -> 72 | ... BA30: =BA20+BA29 -> 0 | BB30: X | BC30: X | BD30: =BD20+BD29 -> 0 | BE30: =BE20+BE29 -> 0 | BF30: =BF20+BF29 -> 536 | BG30: =BG20+BG29 -> 0 | BH30: =BH20+BH29 -> 0 | BI30: =BI20+BI29 -> 238 | BJ30: =BJ20+BJ29 -> 17 | BK30: =BK20+BK29 -> 19 | BL30: =BL20+BL29 -> 19 | CB30: 88536
A31: Обучаются второй год на данном курсе, включая находящихся в академическом отпуске: из строки 01</br> | B31: 08 | C31: 0 | D31: 0 | E31: 0 | F31: 0 | G31: 0 | H31: 0 | I31: 0 | J31: 0 | K31: 0 | L31: 0 | M31: 0 | N31: 0 | O31: 0 | P31: 1 | Q31: 0 | R31: 1 | S31: 0 | T31: 0 | U31: 0 | V31: 0 | W31: 0 | X31: 1 | Y31: 0 | Z31: 2 | AA31: 0 | AB31: 0 | AC31: 0 | AD31: 0 | AE31: 0 | AF31: 2 | AG31: 0 | AH31: 0 | AI31: 0 | AJ31: 0 | AK31: 0 | AL31: 0 | AM31: 0 | AN31: 0 | AO31: 0 | AP31: 0 | AQ31: 0 | AR31: 0 | AS31: 0 | AT31: 0 | AU31: 0 | AV31: 0 | AW31: 0 | AX31: 0 | AY31: 0 | AZ31: 0 | BA31: 0 | BB31: 7 | BC31: 0 | BD31: 0 | BE31: 0 | BF31: 4 | BG31: 0 | BH31: 0 | BI31: 3 | BJ31: 0 | BK31: 0 | BL31: 0 | CB31: 88537
A32: из строки 02 | B32: 09 | C32: 0 | D32: 0 | E32: 0 | F32: 0 | G32: 0 | H32: 0 | I32: 0 | J32: 0 | K32: 0 | L32: 0 | M32: 0 | N32: 0 | O32: 0 | P32: 0 | Q32: 0 | R32: 0 | S32: 0 | T32: 0 | U32: 0 | V32: 0 | W32: 0 | X32: 0 | Y32: 0 | Z32: 0 | AA32: 0 | AB32: 0 | AC32: 0 | AD32: 0 | AE32: 0 | AF32: 0 | AG32: 0 | AH32: 0 | AI32: 0 | AJ32: 0 | AK32: 0 | AL32: 0 | AM32: 0 | AN32: 0 | AO32: 0 | AP32: 0 | AQ32: 0 | AR32: 0 | AS32: 0 | AT32: 0 | AU32: 0 | AV32: 0 | AW32: 0 | AX32: 0 | AY32: 0 | AZ32: 0 | BA32: 0 | BB32: 0 | BC32: 0 | BD32: 0 | BE32: 0 | BF32: 0 | BG32: 0 | BH32: 0 | BI32: 0 | BJ32: 0 | BK32: 0 | BL32: 0 | CB32: 88538
A33: из строки 04 | B33: 10 | C33: 0 | D33: 0 | E33: 0 | F33: 0 | G33: 0 | H33: 0 | I33: 0 | J33: 0 | K33: 0 | L33: 0 | M33: 0 | N33: 0 | O33: 0 | P33: 0 | Q33: 0 | R33: 0 | S33: 0 | T33: 0 | U33: 0 | V33: 0 | W33: 0 | X33: 0 | Y33: 0 | Z33: 0 | AA33: 0 | AB33: 0 | AC33: 0 | AD33: 0 | AE33: 0 | AF33: 0 | AG33: 0 | AH33: 0 | AI33: 0 | AJ33: 0 | AK33: 0 | AL33: 0 | AM33: 0 | AN33: 0 | AO33: 0 | AP33: 0 | AQ33: 0 | AR33: 0 | AS33: 0 | AT33: 0 | AU33: 0 | AV33: 0 | AW33: 0 | AX33: 0 | AY33: 0 | AZ33: 0 | BA33: 0 | BB33: X | BC33: X | BD33: 0 | BE33: 0 | BF33: 0 | BG33: 0 | BH33: 0 | BI33: 0 | BJ33: 0 | BK33: 0 | BL33: 0 | CB33: 88539
A34: из строки 05 | B34: 11 | C34: 0 | D34: 0 | E34: 0 | F34: 0 | G34: 0 | H34: 0 | I34: 0 | J34: 0 | K34: 0 | L34: 0 | M34: 0 | N34: 0 | O34: 0 | P34: 0 | Q34: 0 | R34: 0 | S34: 0 | T34: 0 | U34: 0 | V34: 0 | W34: 0 | X34: 0 | Y34: 0 | Z34: 0 | AA34: 0 | AB34: 0 | AC34: 0 | AD34: 0 | AE34: 0 | AF34: 0 | AG34: 0 | AH34: 0 | AI34: 0 | AJ34: 0 | AK34: 0 | AL34: 0 | AM34: 0 | AN34: 0 | AO34: 0 | AP34: 0 | AQ34: 0 | AR34: 0 | AS34: 0 | AT34: 0 | AU34: 0 | AV34: 0 | AW34: 0 | AX34: 0 | AY34: 0 | AZ34: 0 | BA34: 0 | BB34: X | BC34: X | BD34: 0 | BE34: 0 | BF34: 0 | BG34: 0 | BH34: 0 | BI34: 0 | BJ34: 0 | BK34: 0 | BL34: 0 | CB34: 88540
A35: Код по ОКЕИ: человек – 792 | CB35: 88541
A36: Справка 3. | CB36: 89069
A37: Численность студентов, обучающихся по программам подготовки специалистов среднего звена, занимающихся добровольческой (волонтерской) деятельностью, человек | B37: 12 | C37: 300 | D37: X | CB37: 89070
A38: Численность студентов, обучающихся по программам подготовки квалифицированных рабочих, служащих, занимающихся добровольческой (волонтерской) деятельностью, человек | B38: 13 | C38: 0 | CB38: 89071

Sheet Инструкция
C1: ГБПОУ ТМК
C2: Раздел 2.1.2. Распределение численности студентов по курсам, специальностям и профессиям
C3: Очная
C4: Инструкция
D10: Важно!
E11: 1. Для загрузки в ЛК можно использовать только заполненный шаблон, скачанный из ЛК;
E13: 2. Вносить изменения в формат и структуру шаблона запрещено; Пожалуйста, не добавляйте в шаблон новые листы.
E15: 3. Добавление строк возможно ИСКЛЮЧИТЕЛЬНО при помощи кнопки. Допускается удаление только строк, добавленных с помощью кнопки.
E18: 4. Успешно может быть импортирован ТОЛЬКО тот документ, который был экспортирован. (например, для каждого филиала необходимо отдельно экспортировать шаблон, нельзя использовать шаблон головной организации)
E21: 5. Проверки (в случае наличия листа "Проверки"):
E22: 5.1. Проверки в Excel являются предварительными. Окончательные проверки производятся в веб-интерфейсе.
E23: 5.2. Поскольку добавляемые строки меняют нумерацию в формулах проверок, для просмотра проверки необходимо нажать на ячейку со словом "Неверно".
E26: 6. Нельзя импортировать шаблон, экспортированный из прошлогоднего сбора.
D28: Обозначения:
E30: Следующие ячейки ЗАПРЕЩЕНО редактировать:
H32: Заголовки
H34: Заголовки / нумерация / внешние данные
H36: Ячейка, содержащая формулу
E38: Проверки:
F40: Проверки | H40: Лист проверки содержит формулы, которые служат для контроля правильности данных
H42: Ячейка (на листе "Таблица") подсвечивается красным, если по ней не проходит проверка

Sheet hidden_sheet
A1: 450 | CA1: eyJhbGciOiJSUzI1NiIsInR5cCI6IkpXVCJ9.eyJncmFudF9pZCI6MzQ2LCJhcnRpY2xlX2lkIjo1MDkzLCJvcmdfaWQiOjEwNzEzNiwib3JnX3R5cGUiOm51bGwsInVpZCI6MTU2MzM4LCJwaWQiOiIxNDAzMjMzMy0zZTAxLTQwNzQtOTQ5My04NDU4NmVkYTMyZDIiLCJpYXQiOjE3OTEyODk1ODR9.kbOYK7rUOoE4v8gWFa3E3nvcDQbZUDOazwwfjInEWt-tcIa6PTaTMPHXGXuWkRcDMq1QFuzycWWij2r3w8ZECfxrBZVSbM40nDiBRhHOLdZOxQyFprxo-9t-YKiZt1bf829TChL8GUh-kIe1a5VHV5dTGimo2I_b_2H8gMzky79vO72fumlgce7F9qn7rjE58Edq1Ds55JrVF-2FqW-jhrtqYIESpUPSsWKrlwCHvSrYaPrVdBbUs3EoRqJfj1Qtz-DdPF9982VzoIcmnUW1j7vrVLayhfSbw-8xIqDhGLwkf4QAgUqUHZWieDM-WGEcMhXk23XSEC87AV2yDBFPUiRCXks-nL7jyeo6W0Vjw9WZ9JNcNfHRpZoXvid6r0WHDjq_OV83N4fE0gMRFH_e7rsZz_NTy9THGFG-vvPFhm6ovZ3YsnoFvxeobCo3ADB8KywxDf9k_JjCdKoEMihhWBXPFbYD_M3wxkrBx0YccZuOQtlGtP2vHsr6ssWQUmTORirFbsgoPp7iezdurWf82627HOIPoJnw4IVU2zSlClpl5SUpLj7YeOsXfiztdpcw6e_v7gOz2F1RHoe4y-S86hd8iaz8SGOqCO7895oxUOc5kZz7tmrvZ_TBQ8Wy_wY32PRI_QvjeifJ5E01ue-TgovpqR75lkejkplrR2MtkyY | CB1: 0
A2: 36880 | CC2: B
CC3: BL | CD3: 05.02.01 - Картография | CE3: 05.01.01 - Гидрометнаблюдатель
CD4: 05.02.02 - Гидрология | CE4: 08.01.01 - Изготовитель арматурных сеток и каркасов
CD5: 05.02.03 - Метеорология | CE5: 08.01.02 - Монтажник трубопроводов
CD6: 07.02.01 - Архитектура | CE6: 08.01.04 - Кровельщик
CD7: 08.02.01 - Строительство и эксплуатация зданий и сооружений | CE7: 08.01.05 - Мастер столярно-плотничных и паркетных работ
CD8: 08.02.02 - Строительство и эксплуатация инженерных сооружений | CE8: 08.01.06 - Мастер сухого строительства
CD9: 08.02.03 - Производство неметаллических строительных изделий и конструкций | CE9: 08.01.07 - Мастер общестроительных работ
CD10: 08.02.04 - Водоснабжение и водоотведение | CE10: 08.01.08 - Мастер отделочных строительных работ
CD11: 08.02.05 - Строительство и эксплуатация автомобильных дорог и аэродромов | CE11: 08.01.09 - Слесарь по строительно-монтажным работам
CD12: 08.02.06 - Строительство и эксплуатация городских путей сообщения | CE12: 08.01.10 - Мастер жилищно-коммунального хозяйства
CD13: 08.02.07 - Монтаж и эксплуатация внутренних сантехнических устройств, кондиционирования воздуха и вентиляции | CE13: 08.01.11 - Машинист машин и оборудования в производстве цемента
CD14: 08.02.08 - Монтаж и эксплуатация оборудования и систем газоснабжения | CE14: 08.01.13 - Изготовитель железобетонных изделий
CD15: 08.02.09 - Монтаж, наладка и эксплуатация электрооборудования промышленных и гражданских зданий | CE15: 08.01.14 - Монтажник санитарно-технических, вентиляционных систем и оборудования
... CD295: 43.02.14 - Гостиничное дело | CE295: 54.01.22 - Реставратор
CD296: 43.02.15 - Поварское и кондитерское дело
CD297: 43.02.16 - Туризм и гостеприимство
CD298: 43.02.17 - Технологии индустрии красоты
CD299: 44.02.01 - Дошкольное образование
CD300: 44.02.02 - Преподавание в начальных классах
CD301: 44.02.03 - Педагогика дополнительного образования
CD302: 44.02.04 - Специальное дошкольное образование
CD303: 44.02.05 - Коррекционная педагогика в начальном образовании
CD304: 44.02.06 - Профессиональное обучение (по отраслям)
CD305: 44.02.07 - Преподавание в основном общем образовании (по профилям)
CD306: 46.02.01 - Документационное обеспечение управления и архивоведение
CD307: 46.02.02 - Обеспечение технологического сопровождения цифровой трансформации документированных сфер деятельности
... CD346: 57.02.01 - Пограничная деятельность (по видам деятельности)

Sheet Проверки
A1: Предварительные проверки
A2: Статус | B2: Формула | C2: Значение | D2: Условие | E2: Значение
A3: =IF(Таблица!D8<=Таблица!C8,"Верно","Неверно") -> Верно | B3: см. Инструкцию п. 5.2 | C3: =Таблица!D8 -> 19 | D3: <= | E3: =Таблица!C8 -> 248
A4: =IF(Таблица!D15<=Таблица!C15,"Верно","Неверно") -> Верно | B4: см. Инструкцию п. 5.2 | C4: =Таблица!D15 -> 0 | D4: <= | E4: =Таблица!C15 -> 0
A5: =IF(Таблица!D20<=Таблица!C20,"Верно","Неверно") -> Верно | B5: см. Инструкцию п. 5.2 | C5: =Таблица!D20 -> 19 | D5: <= | E5: =Таблица!C20 -> 248
A6: =IF(Таблица!D21<=Таблица!C21,"Верно","Неверно") -> Верно | B6: см. Инструкцию п. 5.2 | C6: =Таблица!D21 -> 0 | D6: <= | E6: =Таблица!C21 -> 0
A7: =IF(Таблица!D25<=Таблица!C25,"Верно","Неверно") -> Верно | B7: см. Инструкцию п. 5.2 | C7: =Таблица!D25 -> 0 | D7: <= | E7: =Таблица!C25 -> 0
A8: =IF(Таблица!D29<=Таблица!C29,"Верно","Неверно") -> Верно | B8: см. Инструкцию п. 5.2 | C8: =Таблица!D29 -> 0 | D8: <= | E8: =Таблица!C29 -> 0
A9: =IF(Таблица!D30<=Таблица!C30,"Верно","Неверно") -> Верно | B9: см. Инструкцию п. 5.2 | C9: =Таблица!D30 -> 19 | D9: <= | E9: =Таблица!C30 -> 248
A10: =IF(Таблица!D31<=Таблица!C31,"Верно","Неверно") -> Верно | B10: см. Инструкцию п. 5.2 | C10: =Таблица!D31 -> 0 | D10: <= | E10: =Таблица!C31 -> 0
A11: =IF(Таблица!D32<=Таблица!C32,"Верно","Неверно") -> Верно | B11: см. Инструкцию п. 5.2 | C11: =Таблица!D32 -> 0 | D11: <= | E11: =Таблица!C32 -> 0
A12: =IF(Таблица!D33<=Таблица!C33,"Верно","Неверно") -> Верно | B12: см. Инструкцию п. 5.2 | C12: =Таблица!D33 -> 0 | D12: <= | E12: =Таблица!C33 -> 0
A13: =IF(Таблица!D34<=Таблица!C34,"Верно","Неверно") -> Верно | B13: см. Инструкцию п. 5.2 | C13: =Таблица!D34 -> 0 | D13: <= | E13: =Таблица!C34 -> 0
A14: =IF(Таблица!E8<=Таблица!C8,"Верно","Неверно") -> Верно | B14: см. Инструкцию п. 5.2 | C14: =Таблица!E8 -> 190 | D14: <= | E14: =Таблица!C8 -> 248
A15: =IF(Таблица!E15<=Таблица!C15,"Верно","Неверно") -> Верно | B15: см. Инструкцию п. 5.2 | C15: =Таблица!E15 -> 0 | D15: <= | E15: =Таблица!C15 -> 0
A16: =IF(Таблица!E20<=Таблица!C20,"Верно","Неверно") -> Верно | B16: см. Инструкцию п. 5.2 | C16: =Таблица!E20 -> 190 | D16: <= | E16: =Таблица!C20 -> 248
A17: =IF(Таблица!E21<=Таблица!C21,"Верно","Неверно") -> Верно | B17: см. Инструкцию п. 5.2 | C17: =Таблица!E21 -> 0 | D17: <= | E17: =Таблица!C21 -> 0
A18: =IF(Таблица!E25<=Таблица!C25,"Верно","Неверно") -> Верно | B18: см. Инструкцию п. 5.2 | C18: =Таблица!E25 -> 0 | D18: <= | E18: =Таблица!C25 -> 0
A19: =IF(Таблица!E29<=Таблица!C29,"Верно","Неверно") -> Верно | B19: см. Инструкцию п. 5.2 | C19: =Таблица!E29 -> 0 | D19: <= | E19: =Таблица!C29 -> 0
A20: =IF(Таблица!E30<=Таблица!C30,"Верно","Неверно") -> Верно | B20: см. Инструкцию п. 5.2 | C20: =Таблица!E30 -> 190 | D20: <= | E20: =Таблица!C30 -> 248
A21: =IF(Таблица!E31<=Таблица!C31,"Верно","Неверно") -> Верно | B21: см. Инструкцию п. 5.2 | C21: =Таблица!E31 -> 0 | D21: <= | E21: =Таблица!C31 -> 0
A22: =IF(Таблица!E32<=Таблица!C32,"Верно","Неверно") -> Верно | B22: см. Инструкцию п. 5.2 | C22: =Таблица!E32 -> 0 | D22: <= | E22: =Таблица!C32 -> 0
A23: =IF(Таблица!E33<=Таблица!C33,"Верно","Неверно") -> Верно | B23: см. Инструкцию п. 5.2 | C23: =Таблица!E33 -> 0 | D23: <= | E23: =Таблица!C33 -> 0
A24: =IF(Таблица!E34<=Таблица!C34,"Верно","Неверно") -> Верно | B24: см. Инструкцию п. 5.2 | C24: =Таблица!E34 -> 0 | D24: <= | E24: =Таблица!C34 -> 0
A25: =IF(Таблица!C8=Таблица!F8+Таблица!H8+Таблица!I8+Таблица!J8,"Верно","Неверно") -> Верно | B25: см. Инструкцию п. 5.2 | C25: =Таблица!C8 -> 248 | D25: = | E25: =Таблица!F8+Таблица!H8+Таблица!I8+Таблица!J8 -> 248
A26: =IF(Таблица!C15=Таблица!F15+Таблица!H15+Таблица!I15+Таблица!J15,"Верно","Неверно") -> Верно | B26: см. Инструкцию п. 5.2 | C26: =Таблица!C15 -> 0 | D26: = | E26: =Таблица!F15+Таблица!H15+Таблица!I15+Таблица!J15 -> 0
A27: =IF(Таблица!C20=Таблица!F20+Таблица!H20+Таблица!I20+Таблица!J20,"Верно","Неверно") -> Верно | B27: см. Инструкцию п. 5.2 | C27: =Таблица!C20 -> 248 | D27: = | E27: =Таблица!F20+Таблица!H20+Таблица!I20+Таблица!J20 -> 248
A28: =IF(Таблица!C21=Таблица!F21+Таблица!H21+Таблица!I21+Таблица!J21,"Верно","Неверно") -> Верно | B28: см. Инструкцию п. 5.2 | C28: =Таблица!C21 -> 0 | D28: = | E28: =Таблица!F21+Таблица!H21+Таблица!I21+Таблица!J21 -> 0
A29: =IF(Таблица!C25=Таблица!F25+Таблица!H25+Таблица!I25+Таблица!J25,"Верно","Неверно") -> Верно | B29: см. Инструкцию п. 5.2 | C29: =Таблица!C25 -> 0 | D29: = | E29: =Таблица!F25+Таблица!H25+Таблица!I25+Таблица!J25 -> 0
A30: =IF(Таблица!C29=Таблица!F29+Таблица!H29+Таблица!I29+Таблица!J29,"Верно","Неверно") -> Верно | B30: см. Инструкцию п. 5.2 | C30: =Таблица!C29 -> 0 | D30: = | E30: =Таблица!F29+Таблица!H29+Таблица!I29+Таблица!J29 -> 0
A31: =IF(Таблица!C30=Таблица!F30+Таблица!H30+Таблица!I30+Таблица!J30,"Верно","Неверно") -> Верно | B31: см. Инструкцию п. 5.2 | C31: =Таблица!C30 -> 248 | D31: = | E31: =Таблица!F30+Таблица!H30+Таблица!I30+Таблица!J30 -> 248
A32: =IF(Таблица!C31=Таблица!F31+Таблица!H31+Таблица!I31+Таблица!J31,"Верно","Неверно") -> Верно | B32: см. Инструкцию п. 5.2 | C32: =Таблица!C31 -> 0 | D32: = | E32: =Таблица!F31+Таблица!H31+Таблица!I31+Таблица!J31 -> 0
A33: =IF(Таблица!C32=Таблица!F32+Таблица!H32+Таблица!I32+Таблица!J32,"Верно","Неверно") -> Верно | B33: см. Инструкцию п. 5.2 | C33: =Таблица!C32 -> 0 | D33: = | E33: =Таблица!F32+Таблица!H32+Таблица!I32+Таблица!J32 -> 0
A34: =IF(Таблица!C33=Таблица!F33+Таблица!H33+Таблица!I33+Таблица!J33,"Верно","Неверно") -> Верно | B34: см. Инструкцию п. 5.2 | C34: =Таблица!C33 -> 0 | D34: = | E34: =Таблица!F33+Таблица!H33+Таблица!I33+Таблица!J33 -> 0
A35: =IF(Таблица!C34=Таблица!F34+Таблица!H34+Таблица!I34+Таблица!J34,"Верно","Неверно") -> Верно | B35: см. Инструкцию п. 5.2 | C35: =Таблица!C34 -> 0 | D35: = | E35: =Таблица!F34+Таблица!H34+Таблица!I34+Таблица!J34 -> 0
A36: =IF(Таблица!G8<=Таблица!D8,"Верно","Неверно") -> Верно | B36: см. Инструкцию п. 5.2 | C36: =Таблица!G8 -> 0 | D36: <= | E36: =Таблица!D8 -> 19
A37: =IF(Таблица!G15<=Таблица!D15,"Верно","Неверно") -> Верно | B37: см. Инструкцию п. 5.2 | C37: =Таблица!G15 -> 0 | D37: <= | E37: =Таблица!D15 -> 0
A38: =IF(Таблица!G20<=Таблица!D20,"Верно","Неверно") -> Верно | B38: см. Инструкцию п. 5.2 | C38: =Таблица!G20 -> 0 | D38: <= | E38: =Таблица!D20 -> 19
A39: =IF(Таблица!G21<=Таблица!D21,"Верно","Неверно") -> Верно | B39: см. Инструкцию п. 5.2 | C39: =Таблица!G21 -> 0 | D39: <= | E39: =Таблица!D21 -> 0
A40: =IF(Таблица!G25<=Таблица!D25,"Верно","Неверно") -> Верно | B40: см. Инструкцию п. 5.2 | C40: =Таблица!G25 -> 0 | D40: <= | E40: =Таблица!D25 -> 0
...
